BEGIN:VCALENDAR
VERSION:2.0
PRODID:spatie/icalendar-generator
DESCRIPTION:Events from The City of Springfield\, SD
X-WR-CALDESC:Events from The City of Springfield\, SD
REFRESH-INTERVAL;VALUE=DURATION:PT1440M
X-PUBLISHED-TTL:PT1440M
BEGIN:VTIMEZONE
TZID:Etc/GMT+5
BEGIN:STANDARD
DTSTART:20240224T183000Z
TZOFFSETFROM:-0500
TZOFFSETTO:-0500
END:STANDARD
END:VTIMEZONE
BEGIN:VTIMEZONE
TZID:UTC
BEGIN:STANDARD
DTSTART:20250725T101201Z
TZOFFSETFROM:+0000
TZOFFSETTO:+0000
END:STANDARD
END:VTIMEZONE
BEGIN:VEVENT
UID:72-41
DTSTAMP:20260421T101201Z
SUMMARY:NAMI Ending the Silence
LOCATION:
ORGANIZER;CN=Larson:MAILTO:Amanda-larson@springfieldsd.gov
DTSTART;TZID=Etc/GMT+5:20241120T183000
DTEND;TZID=Etc/GMT+5:20241120T193000
X-ALT-DESC;FMTTYPE=TEXT/HTML:Springfield Dated ETS Flyer for Marketing 2024
 _2025
CATEGORIES:City Events
URL;VALUE=URI:https://springfieldsd.gov/mc-events/nami-ending-the-silence/
METHOD:PUBLISH
END:VEVENT
END:VCALENDAR